BEGIN:VCALENDAR
VERSION:2.0
PRODID:spatie/icalendar-generator
DESCRIPTION:Evenementen van Schietsportcentrum Alphen
X-WR-CALDESC:Evenementen van Schietsportcentrum Alphen
REFRESH-INTERVAL;VALUE=DURATION:PT1440M
X-PUBLISHED-TTL:PT1440M
BEGIN:VTIMEZONE
TZID:Europe/Amsterdam
BEGIN:STANDARD
DTSTART:20241027T030000Z
TZOFFSETFROM:+0200
TZOFFSETTO:+0100
END:STANDARD
BEGIN:DAYLIGHT
DTSTART:20250330T020000Z
TZOFFSETFROM:+0100
TZOFFSETTO:+0200
END:DAYLIGHT
END:VTIMEZONE
BEGIN:VTIMEZONE
TZID:UTC
BEGIN:STANDARD
DTSTART:20250727T112717Z
TZOFFSETFROM:+0000
TZOFFSETTO:+0000
END:STANDARD
END:VTIMEZONE
BEGIN:VEVENT
UID:80-8
DTSTAMP:20260423T112717Z
SUMMARY:GHT 2025
LOCATION:
ORGANIZER;CN=Gerard Hoogeveen:MAILTO:svalphen2520@outlook.com
DTSTART;TZID=Europe/Amsterdam:20250410T000000
DTEND;TZID=Europe/Amsterdam:20250413T010000
X-ALT-DESC;FMTTYPE=TEXT/HTML:Groene Hart Toernooi 2025 Alleen open voor luc
 htschieten
CATEGORIES:Lucht
URL;VALUE=URI:https://svalphen.nl/mc-events/ght-2025/
METHOD:PUBLISH
END:VEVENT
END:VCALENDAR